BEGIN:VCALENDAR
VERSION:2.0
PRODID:-//Tukios.com/
BEGIN:VEVENT
UID:9b72cda7-bdb7-486e-b57c-0fca29a6d21f@www.maxbrannonandsons.com
DTSTAMP:20260422T203930Z
DTSTART:20260423T210000Z
DTEND:20260424T000000Z
SUMMARY:Visitation
DESCRIPTION:
URL:https://www.maxbrannonandsons.com/obituaries/sharon-parker
LOCATION:Trinity Baptist Church 1170 Rome Rd SW  Calhoun GA 30701
GEO:34.4672299;-84.9751407
END:VEVENT
END:VCALENDAR