BEGIN:VCALENDAR
VERSION:2.0
PRODID:-//Tukios.com/
BEGIN:VEVENT
UID:efb13097-7324-4373-9948-94a20d4a9fe3@www.maxbrannonandsons.com
DTSTAMP:20260422T204159Z
DTSTART:20260424T170000Z
DTEND:20260424T180000Z
SUMMARY:Funeral Service
DESCRIPTION:
URL:https://www.maxbrannonandsons.com/obituaries/sharon-parker
LOCATION:Trinity Baptist Church 1170 Rome Rd SW  Calhoun GA 30701
GEO:34.4672299;-84.9751407
END:VEVENT
END:VCALENDAR