BEGIN:VCALENDAR
VERSION:2.0
PRODID:-//Tukios.com/
BEGIN:VEVENT
UID:e0fb9f05-cc8d-4639-b1f4-bf4b4d49fe9f@www.maxbrannonandsons.com
DTSTAMP:20260420T085017Z
DTSTART:20260304T150000Z
DTEND:20260304T160000Z
SUMMARY:Mass
DESCRIPTION:
URL:https://www.maxbrannonandsons.com/obituaries/eulalia-hernandez-estrada
LOCATION:St. Clements Catholic Church 875 Highway 53  Calhoun GA 30701
GEO:34.4725078;-84.970248
END:VEVENT
END:VCALENDAR